Workbook

Sheet limiti assunzioni
A1: CALCOLO DEL RISPETTO DEI LIMITI DI SPESA DI PERSONALE PER L'ANNUALITA' 2026 DEL COMUNE DI CAMPARADA
A3: spesa di personale ai sensi dell'art. 33 c. 2 DL 34/2019 | F3: spesa di personale ai sensi dell'art. 1 c. 557 quater o 562 della L. 296/2006
A4: spesa del personale lorda senza IRAP anno di riferimento | D4: =279659.41 -> 279659.41 | F4: limite spesa personale lorda annualità di riferimento | J4: 246384.12
A5: spesa del personale lorda senza IRAP prevista anno corrente | D5: =331091.98-H47 -> 208662.55 | F5: spesa personale lorda prevista anno corrente | J5: 193902.55
A6: spesa del personale lorda senza IRAP prevista anno successivo | D6: =343910.96-H47 -> 221481.53 | F6: verifica del rispetto del limite di spesa di personale | J6: =J4-J5 -> 52481.57
A8: comuni per fasce demografiche | C8: valore soglia | G8: valori soglia di rientro per la maggiore spesa
A9: meno di 1.000 abitanti | C9: 0.295 | G9: comuni per fasce demografiche | J9: valore soglia
A10: da 1.000 a 1.999 abitanti | C10: 0.286 | G10: meno di 1.000 abitanti | J10: 0.335
A11: da 2.000 a 2.999 abitanti | C11: 0.276 | G11: da 1.000 a 1.999 abitanti | J11: 0.326
A12: da 3.000 a 4.999 abitanti | C12: 0.272 | G12: da 2.000 a 2.999 abitanti | J12: 0.316
A13: da 5.000 a 9.999 abitanti | C13: 0.269 | G13: da 3.000 a 4.999 abitanti | J13: 0.312
A14: da 10.000 a 59.999 abitanti | C14: 0.27 | G14: da 5.000 a 9.999 abitanti | J14: 0.309
A15: da 60.000 a 249.999 abitanti | C15: 0.276 | G15: da 10.000 a 59.999 abitanti | J15: 0.31
A16: da 250.000 a 1.499.999 abitanti | C16: 0.288 | G16: da 60.000 a 249.999 abitanti | J16: 0.316
A17: con e oltre 1.500.000 abitanti | C17: 0.253 | G17: da 250.000 a 1.499.999 abitanti | J17: 0.328
G18: con e oltre 1.500.000 abitanti | J18: 0.293
A20: accertamenti entrate correnti triennio di riferimento | D20: media | F20: calcolo del limite di spesa per soglia demografica
A21: 1553341.6 | B21: 1783232.7 | C21: 2160609.5 | D21: =AVERAGE(A21:C21) -> 1832394.6 | F21: valore soglia | J21: 0.276
A22: fondo crediti dubbia esigibilità anno di riferimento | D22: 72494.81 | F22: limite teorico spesa di personale lorda senza IRAP | J22: =J21*D23 -> 485732.35
A23: valore entrate correnti da rapportare | D23: =D21-D22 -> 1759899.8 | F23: ricalcolo limite spesa di personale lorda senza IRAP | J23: =D25*D23 -> 485732.35
A24: rapporto spesa personale su entrate correnti | D24: =IF(D23=0,0,D4/D23) -> 0.15890644 | F24: limite effettivo spesa di personale lorda senza IRAP | J24: =IF((J23<=J22),J23,J22) -> 485732.35
A25: limite rapporto spesa personale su entrate correnti | D25: =IF(D24>J21,D24,J21) -> 0.276 | F25: spesa turn over non utilizzato successivo all'anno preso a base di calcolo | J25: 0
A26: N.B. in caso di percentuale intermedia occorre calcolare il nuovo obiettivo e il rapporto tra spesa personale e entrate correnti unicamente rispetto l'anno di riferimento | F26: eventuali altre voci di spesa del personale da decurtare | J26: 0
F27: eventuali altre spese di personale da aggiungere | J27: 0
A29: www.carmignaniconsulenza.com
A41: nuove assunzioni da programmare per l'anno corrente calcolate sul costo personale lordo senza l'IRAP
A42: area professionale | B42: tabellare | C42: tredicesima | D42: oneri | E42: oneri | F42: totale | G42: assunzioni programmate | H42: costo assunzioni al netto dell'IRAP | I42: costo al lordo dell'IRAP
A43: AREA OPERATORI | B43: 18044.37 | C43: =(B43/12)*13 -> 19548.068 | D43: =23.8%+2.88% -> 0.2668 | E43: =C43*D43 -> 5215.4244 | F43: =C43+E43 -> 24763.492 | G43: 0 | H43: =G43*F43 -> 0 | I43: =H43+(C43*8.5%)*G43 -> 0
A44: AREA OPERATORI E. | B44: 19034.51 | C44: =(B44/12)*13 -> 20620.719 | D44: =23.8%+2.88% -> 0.2668 | E44: =C44*D44 -> 5501.6079 | F44: =C44+E44 -> 26122.327 | G44: 0 | H44: =G44*F44 -> 0 | I44: =H44+(C44*8.5%)*G44 -> 0
A45: AREA ISTRUTTORI | B45: 21392.87 | C45: =(B45/12)*13 -> 23175.609 | D45: =23.8%+2.88% -> 0.2668 | E45: =C45*D45 -> 6183.2525 | F45: =C45+E45 -> 29358.862 | G45: 2 | H45: =G45*F45 -> 58717.723 | I45: =H45+(C45*8.5%)*G45 -> 62657.577
A46: AREA FUNZIONARI E.Q. | B46: 23212.35 | C46: =(B46/12)*13 -> 25146.712 | D46: =23.8%+2.88% -> 0.2668 | E46: =C46*D46 -> 6709.1429 | F46: =C46+E46 -> 31855.855 | G46: 2 | H46: =G46*F46 -> 63711.711 | I46: =H46+(C46*8.5%)*G46 -> 67986.652
A47: totali | G47: =SUM(G43:G46) -> 4 | H47: =SUM(H43:H46) -> 122429.43 | I47: =SUM(I43:I46) -> 130644.23
A49: calcolo delle possibilità di spesa di personale rispetto i limiti previsti | H49: assunzioni flessibili, art. 9 c. 28 del dl 78/2010
A50: spesa personale disponibile per assunzioni in deroga rispetto al limite calcolata all'anno di riferimento | F50: =J24-D4 -> 206072.94
A51: spesa personale complessiva disponibile per nuove assunzioni a tempo indeterminato in deroga | F51: =J25+F50 -> 206072.94 | H51: spese per assunzioni flessibili anno 2009
A52: nuova spesa di personale lorda senza IRAP programmata rispetto l'anno di riferimento | F52: =D4-J25-J26+H47 -> 402088.84
A53: margine per nuova spesa di personale ancora disponibile rispetto al limite dell'anno di riferimento | F53: =J24-F52 -> 83643.502 | H53: 32156.83
H54: spese per assunzioni flessibili anno corrente
A55: proiezioni teoriche non vincolanti del rispetto del limite della spesa di personale sulle annualità successive
A56: nuova spesa di personale lorda senza IRAP programmata rispetto l'anno corrente | F56: =D5-J25-J26+J27+H47 -> 331091.98 | H56: =6500+5607.68 -> 12107.68
...

Sheet grafico
A1: DATI RELATIVI ALLA SPESA DI PERSONALE ANNUALITA' 2025 DEL COMUNE DI ____________________
A2: spesa personale annualità di riferimento al netto componenti escluse - l. 296/2006 | B2: ='limiti assunzioni'!J4 -> 246384.12
A3: spesa personale prevista anno corrente al netto componenti escluse - l. 296/2006 | B3: ='limiti assunzioni'!J5 -> 193902.55
A4: limite spesa di personale lorda senza IRAP - dl 34/2019 | B4: ='limiti assunzioni'!J24 -> 485732.35
A5: spesa del personale lorda senza IRAP prevista anno corrente - dl 34/2019 | B5: ='limiti assunzioni'!D5 -> 208662.55
A6: nuova spesa di personale lorda senza IRAP programmata anno corrente - dl 34/2019 | B6: ='limiti assunzioni'!F56 -> 331091.98
A33: www.carmignaniconsulenza.com
